BEGIN:VCALENDAR
VERSION:2.0
PRODID:-//demosphere.net//NONSGML kigkonsult.se iCalcreator 2.22.1//
METHOD:REQUEST
X-WR-TIMEZONE:Europe/Paris
BEGIN:VEVENT
UID:https://safe.strasbourg.demosphere.net/rv/9232
DTSTAMP:20260416T163000Z
DESCRIPTION:plus d'infos sur : https://safe.strasbourg.demosphere.net/rv/92
 32
DTSTART:20260416T163000Z
DTEND:20260416T173000Z
GEO:+48.577;+7.766871
LOCATION:Esplanade\, \nLe Romulus \n12 Rue de Rome\, 67000 Strasbourg\, Fra
 nce
SUMMARY:Café Alternative Libertaire : compensation écologique
URL:https://safe.strasbourg.demosphere.net/rv/9232
END:VEVENT
END:VCALENDAR
