BEGIN:VCALENDAR
VERSION:2.0
PRODID:-//demosphere.net//NONSGML kigkonsult.se iCalcreator 2.22.1//
METHOD:REQUEST
X-WR-TIMEZONE:Europe/Paris
BEGIN:VEVENT
UID:https://safe.strasbourg.demosphere.net/rv/852
DTSTAMP:20190516T163000Z
DESCRIPTION:plus d'infos sur : https://safe.strasbourg.demosphere.net/rv/85
 2
DTSTART:20190516T163000Z
DTEND:20190516T173000Z
GEO:+48.579112;+7.763225
LOCATION:Esplanade\, \nLe Patio - Campus Central \n22 rue René Descartes \n
 67000 Strasbourg
SUMMARY:Conférence - 'Ouvrir son foyer aux mineurs isolés étrangers'
URL:https://safe.strasbourg.demosphere.net/rv/852
END:VEVENT
END:VCALENDAR
