BEGIN:VCALENDAR
VERSION:2.0
PRODID:-//demosphere.net//NONSGML kigkonsult.se iCalcreator 2.22.1//
METHOD:REQUEST
X-WR-TIMEZONE:Europe/Paris
BEGIN:VEVENT
UID:https://safe.strasbourg.demosphere.net/rv/6087
DTSTAMP:20240531T150000Z
DESCRIPTION:plus d'infos sur : https://safe.strasbourg.demosphere.net/rv/60
 87
DTSTART:20240531T150000Z
DTEND:20240531T160000Z
GEO:+48.579112;+7.763225
LOCATION:Esplanade\, \nLe Patio - Campus Central \n22 rue René Descartes \n
 67000 Strasbourg
SUMMARY:Les étudiant.e.s solidaires de la Palestine
URL:https://safe.strasbourg.demosphere.net/rv/6087
END:VEVENT
END:VCALENDAR
