BEGIN:VCALENDAR
VERSION:2.0
PRODID:-//demosphere.net//NONSGML kigkonsult.se iCalcreator 2.22.1//
METHOD:REQUEST
X-WR-TIMEZONE:Europe/Paris
BEGIN:VEVENT
UID:https://safe.strasbourg.demosphere.net/rv/5638
DTSTAMP:20240215T153000Z
DESCRIPTION:plus d'infos sur : https://safe.strasbourg.demosphere.net/rv/56
 38
DTSTART:20240215T153000Z
DTEND:20240215T163000Z
GEO:+48.579112;+7.763225
LOCATION:Esplanade\, \nLe Patio - Campus Central \n22 rue René Descartes \n
 67000 Strasbourg
SUMMARY:Manifestation contre la montée de l'extrême-droite (Loi immigration
 \, SNU\, etc.)
URL:https://safe.strasbourg.demosphere.net/rv/5638
END:VEVENT
END:VCALENDAR
