BEGIN:VCALENDAR
VERSION:2.0
PRODID:-//demosphere.net//NONSGML kigkonsult.se iCalcreator 2.22.1//
METHOD:REQUEST
X-WR-TIMEZONE:Europe/Paris
BEGIN:VEVENT
UID:https://safe.strasbourg.demosphere.net/rv/5381
DTSTAMP:20231211T170000Z
DESCRIPTION:plus d'infos sur : https://safe.strasbourg.demosphere.net/rv/53
 81
DTSTART:20231211T170000Z
DTEND:20231211T180000Z
GEO:+48.579112;+7.763225
LOCATION:Esplanade\, \nLe Patio (Amphi 3) - Campus Central \n22 rue René De
 scartes \n67000 Strasbourg
SUMMARY:Discussion/Echange avec Ana Pich 'Chroniques de l'injustice ordinai
 re'
URL:https://safe.strasbourg.demosphere.net/rv/5381
END:VEVENT
END:VCALENDAR
