BEGIN:VCALENDAR
VERSION:2.0
PRODID:-//demosphere.net//NONSGML kigkonsult.se iCalcreator 2.22.1//
METHOD:REQUEST
X-WR-TIMEZONE:Europe/Paris
BEGIN:VEVENT
UID:https://safe.strasbourg.demosphere.net/rv/5212
DTSTAMP:20231110T180000Z
DESCRIPTION:plus d'infos sur : https://safe.strasbourg.demosphere.net/rv/52
 12
DTSTART:20231110T180000Z
DTEND:20231110T190000Z
GEO:+48.581918;+7.756586
LOCATION:Krutenau\, \nLibrairie la Tâche Noire \n1 Rue de Zurich\, 67000 St
 rasbourg\, France
SUMMARY:Alsace\, Algérie\, récits de la guerre. Jean-Claude Richez\, Pierre
  Kretz\, Jean-Louis Hess
URL:https://safe.strasbourg.demosphere.net/rv/5212
END:VEVENT
END:VCALENDAR
