BEGIN:VCALENDAR
VERSION:2.0
PRODID:-//demosphere.net//NONSGML kigkonsult.se iCalcreator 2.22.1//
METHOD:REQUEST
X-WR-TIMEZONE:Europe/Paris
BEGIN:VEVENT
UID:https://safe.strasbourg.demosphere.net/rv/4453
DTSTAMP:20230405T060000Z
DESCRIPTION:plus d'infos sur : https://safe.strasbourg.demosphere.net/rv/44
 53
DTSTART:20230405T060000Z
DTEND:20230405T070000Z
GEO:+48.579112;+7.763225
LOCATION:Esplanade\, \nLe Patio - Campus Central \n22 rue René Descartes \n
 67000 Strasbourg \nLa Misha \nAllée du général Rouvillois \n67000 Strasbou
 rg
SUMMARY:AGSciences sociales en lutte: université ouverte 8h-18h
URL:https://safe.strasbourg.demosphere.net/rv/4453
END:VEVENT
END:VCALENDAR
