BEGIN:VCALENDAR
VERSION:2.0
PRODID:-//demosphere.net//NONSGML kigkonsult.se iCalcreator 2.22.1//
METHOD:REQUEST
X-WR-TIMEZONE:Europe/Paris
BEGIN:VEVENT
UID:https://safe.strasbourg.demosphere.net/rv/4451
DTSTAMP:20230403T120000Z
DESCRIPTION:plus d'infos sur : https://safe.strasbourg.demosphere.net/rv/44
 51
DTSTART:20230403T120000Z
DTEND:20230403T130000Z
GEO:+48.579112;+7.763225
LOCATION:Esplanade\, \nLe Patio - Campus Central \n22 rue René Descartes \n
 67000 Strasbourg
SUMMARY:Sciences sociales en lutte: université ouverte
URL:https://safe.strasbourg.demosphere.net/rv/4451
END:VEVENT
END:VCALENDAR
