BEGIN:VCALENDAR
VERSION:2.0
PRODID:-//demosphere.net//NONSGML kigkonsult.se iCalcreator 2.22.1//
METHOD:REQUEST
X-WR-TIMEZONE:Europe/Paris
BEGIN:VEVENT
UID:https://safe.strasbourg.demosphere.net/rv/2089
DTSTAMP:20200302T110000Z
DESCRIPTION:plus d'infos sur : https://safe.strasbourg.demosphere.net/rv/20
 89
DTSTART:20200302T110000Z
DTEND:20200302T120000Z
GEO:+48.579112;+7.763225
LOCATION:Esplanade\, \nLe Patio - Campus Central \n22 rue René Descartes \n
 67000 Strasbourg
SUMMARY:Réunion Semaine De l'Environnement - organisation de la SDE 2020
URL:https://safe.strasbourg.demosphere.net/rv/2089
END:VEVENT
END:VCALENDAR
