BEGIN:VCALENDAR
VERSION:2.0
PRODID:-//demosphere.net//NONSGML kigkonsult.se iCalcreator 2.22.1//
METHOD:REQUEST
X-WR-TIMEZONE:Europe/Paris
BEGIN:VEVENT
UID:https://safe.strasbourg.demosphere.net/rv/185
DTSTAMP:20131211T170000Z
DESCRIPTION:plus d'infos sur : https://safe.strasbourg.demosphere.net/rv/18
 5
DTSTART:20131211T170000Z
DTEND:20131211T180000Z
GEO:+48.579112;+7.763225
LOCATION:Esplanade\, \nLe Patio - Campus Central \n22 rue René Descartes \n
 67000 Strasbourg
SUMMARY:SNESUP - Table ronde : l'Enseignement supérieur et la Recherche ave
 c J.L. Mélenchon
URL:https://safe.strasbourg.demosphere.net/rv/185
END:VEVENT
END:VCALENDAR
