BEGIN:VCALENDAR
VERSION:2.0
PRODID:-//demosphere.net//NONSGML kigkonsult.se iCalcreator 2.22.1//
METHOD:REQUEST
X-WR-TIMEZONE:Europe/Paris
BEGIN:VEVENT
UID:https://safe.strasbourg.demosphere.net/rv/1747
DTSTAMP:20191217T110000Z
DESCRIPTION:plus d'infos sur : https://safe.strasbourg.demosphere.net/rv/17
 47
DTSTART:20191217T110000Z
DTEND:20191217T120000Z
GEO:+48.579112;+7.763225
LOCATION:Esplanade\, \nLe Patio - Campus Central \n22 rue René Descartes \n
 67000 Strasbourg
SUMMARY:Rassemblement contre l’Action Française et l’extrême-droite
URL:https://safe.strasbourg.demosphere.net/rv/1747
END:VEVENT
END:VCALENDAR
