BEGIN:VCALENDAR
VERSION:2.0
PRODID:-//demosphere.net//NONSGML kigkonsult.se iCalcreator 2.22.1//
METHOD:REQUEST
X-WR-TIMEZONE:Europe/Paris
BEGIN:VEVENT
UID:https://safe.strasbourg.demosphere.net/rv/1343
DTSTAMP:20190918T160000Z
DESCRIPTION:plus d'infos sur : https://safe.strasbourg.demosphere.net/rv/13
 43
DTSTART:20190918T160000Z
DTEND:20190918T170000Z
GEO:+48.579112;+7.763225
LOCATION:Esplanade\, \nLe Patio - Campus Central \n22 rue René Descartes \n
 67000 Strasbourg
SUMMARY:Football Populaire
URL:https://safe.strasbourg.demosphere.net/rv/1343
END:VEVENT
END:VCALENDAR
